BEGIN:VCALENDAR
VERSION:2.0
PRODID:-//Squarespace Inc/Squarespace 6//v6//EN
BEGIN:VEVENT
UID:5c89c51f53450a5b64526610@squarespace.com
DTSTAMP:20190528T085955Z
DTSTART:20190430T143000Z
DTEND:20190528T160000Z
SUMMARY:Baby &amp\; You May Course
GEO:-36.895048;174.933323
LOCATION:Picton Centre\, 120 Picton Street\, Auckland\, Auckland\, 2014\, N
 ew Zealand
END:VEVENT
END:VCALENDAR
