BEGIN:VCALENDAR
VERSION:2.0
PRODID:-//Squarespace Inc/Squarespace 6//v6//EN
BEGIN:VEVENT
UID:5c5891977817f7663cf62bb3@squarespace.com
DTSTAMP:20190314T031309Z
DTSTART:20190212T153000Z
DTEND:20190212T170000Z
SUMMARY:Baby &amp\; You February Course
GEO:-36.895048;174.933323
LOCATION:Picton Centre\, 120 Picton Street\, Auckland\, Auckland\, 2014\, N
 ew Zealand
END:VEVENT
END:VCALENDAR
