BEGIN:VCALENDAR
VERSION:2.0
PRODID:-//Squarespace Inc/Squarespace 6//v6//EN
BEGIN:VEVENT
UID:5d5dc95fd910570001cee623@squarespace.com
DTSTAMP:20190821T224659Z
DTSTART:20190827T143000Z
DTEND:20190924T160000Z
SUMMARY:Baby &amp\; You August Course
GEO:-36.895048;174.933323
LOCATION:Picton Centre\, 120 Picton Street\, Auckland\, Auckland\, 2014\, N
 ew Zealand
END:VEVENT
END:VCALENDAR
