BEGIN:VCALENDAR
VERSION:2.0
PRODID:-//Squarespace Inc/Squarespace 6//v6//EN
BEGIN:VEVENT
UID:5c89c78ab208fc63550d5f59@squarespace.com
DTSTAMP:20190528T085951Z
DTSTART:20190604T143000Z
DTEND:20190702T160000Z
SUMMARY:Baby &amp\; You June Course
GEO:-36.895048;174.933323
LOCATION:Picton Centre\, 120 Picton Street\, Auckland\, Auckland\, 2014\, N
 ew Zealand
END:VEVENT
END:VCALENDAR
