BEGIN:VCALENDAR
VERSION:2.0
PRODID:-//Squarespace Inc/Squarespace 6//v6//EN
BEGIN:VEVENT
UID:5d814cf4d4a414168dbee64f@squarespace.com
DTSTAMP:20191025T013312Z
DTSTART:20191105T153000Z
DTEND:20191203T170000Z
SUMMARY:Baby &amp\; You November Course
GEO:-36.895048;174.933323
LOCATION:Picton Centre\, 120 Picton Street\, Auckland\, Auckland\, 2014\, N
 ew Zealand
END:VEVENT
END:VCALENDAR
