BEGIN:VCALENDAR
VERSION:2.0
PRODID:-//Squarespace Inc/Squarespace 6//v6//EN
BEGIN:VEVENT
UID:5c06358c032be4b14651f072@squarespace.com
DTSTAMP:20190923T060553Z
DTSTART:20191108T000000Z
DTEND:20191108T020000Z
SUMMARY:SOLD OUT Due date late December 2019 to late January 2020
GEO:-36.935629;174.914978
LOCATION:Eastview Baptist Church\, 559 Chapel Road\, Auckland\, Auckland\, 
 2016\, New Zealand
END:VEVENT
END:VCALENDAR
