BEGIN:VCALENDAR
VERSION:2.0
PRODID:-//Squarespace Inc/Squarespace 6//v6//EN
BEGIN:VEVENT
UID:5c0635380e2e72a9c58c51a6@squarespace.com
DTSTAMP:20190923T060623Z
DTSTART:20191003T230000Z
DTEND:20191004T010000Z
SUMMARY:LAST COURSE AVAILABLE FOR 2019 Due date mid November to mid Decembe
 r 2019
GEO:-36.935629;174.914978
LOCATION:Eastview Baptist Church\, 559 Chapel Road\, Auckland\, Auckland\, 
 2016\, New Zealand
END:VEVENT
END:VCALENDAR
