BEGIN:VCALENDAR
VERSION:2.0
PRODID:-//Squarespace Inc/Squarespace 6//v6//EN
BEGIN:VEVENT
UID:5c06351d21c67c6b58cc98ba@squarespace.com
DTSTAMP:20190124T080538Z
DTSTART:20190815T230000Z
DTEND:20190816T010000Z
SUMMARY:Due date October 2019 to mid November 2019
GEO:-36.935629;174.914978
LOCATION:Eastview Baptist Church\, 559 Chapel Road\, Auckland\, Auckland\, 
 2016\, New Zealand
END:VEVENT
END:VCALENDAR
