BEGIN:VCALENDAR
VERSION:2.0
PRODID:-//Squarespace Inc/Squarespace 6//v6//EN
BEGIN:VEVENT
UID:5d82bb48b6d07b06ee021853@squarespace.com
DTSTAMP:20190923T062300Z
DTSTART:20201106T000000Z
DTEND:20201218T020000Z
SUMMARY:Due date between December 2020 and January 2021
GEO:-36.935629;174.914978
LOCATION:Eastview Baptist Church\, 559 Chapel Road\, Auckland\, Auckland\, 
 2016\, New Zealand
END:VEVENT
END:VCALENDAR
