BEGIN:VCALENDAR
VERSION:2.0
PRODID:-//Squarespace Inc/Squarespace 6//v6//EN
BEGIN:VEVENT
UID:5d82b968b78dc7561f946ab4@squarespace.com
DTSTAMP:20191017T024139Z
DTSTART:20200117T000000Z
DTEND:20200228T020000Z
SUMMARY:Due date between March and April
GEO:-36.935629;174.914978
LOCATION:Eastview Baptist Church\, 559 Chapel Road\, Auckland\, Auckland\, 
 2016\, New Zealand
END:VEVENT
END:VCALENDAR
