BEGIN:VCALENDAR
VERSION:2.0
PRODID:-//Squarespace Inc/Squarespace 6//v6//EN
BEGIN:VEVENT
UID:5d82bad4b78dc7561f948c59@squarespace.com
DTSTAMP:20190923T062033Z
DTSTART:20200313T000000Z
DTEND:20200424T020000Z
SUMMARY:Due date between May and June
GEO:-36.935629;174.914978
LOCATION:Eastview Baptist Church\, 559 Chapel Road\, Auckland\, Auckland\, 
 2016\, New Zealand
END:VEVENT
END:VCALENDAR
