BEGIN:VCALENDAR
VERSION:2.0
PRODID:-//Squarespace Inc/Squarespace 6//v6//EN
BEGIN:VEVENT
UID:5d82ba5e3b530747df03cf2c@squarespace.com
DTSTAMP:20190923T062105Z
DTSTART:20200515T010000Z
DTEND:20200626T030000Z
SUMMARY:Due date between July and August
GEO:-36.935629;174.914978
LOCATION:Eastview Baptist Church\, 559 Chapel Road\, Auckland\, Auckland\, 
 2016\, New Zealand
END:VEVENT
END:VCALENDAR
