BEGIN:VCALENDAR
VERSION:2.0
PRODID:-//Squarespace Inc/Squarespace 6//v6//EN
BEGIN:VEVENT
UID:5d832d9ab6d07b06ee0a84f5@squarespace.com
DTSTAMP:20190923T062209Z
DTSTART:20200911T010000Z
DTEND:20201023T030000Z
SUMMARY:Due date between November and December
GEO:-36.935629;174.914978
LOCATION:Eastview Baptist Church\, 559 Chapel Road\, Auckland\, Auckland\, 
 2016\, New Zealand
END:VEVENT
END:VCALENDAR
