BEGIN:VCALENDAR
VERSION:2.0
PRODID:-//Squarespace Inc/Squarespace 6//v6//EN
BEGIN:VEVENT
UID:5d82bb0e1010f46908b3ebd4@squarespace.com
DTSTAMP:20190923T062151Z
DTSTART:20200717T010000Z
DTEND:20200828T030000Z
SUMMARY:Due date between September and October
GEO:-36.935629;174.914978
LOCATION:Eastview Baptist Church\, 559 Chapel Road\, Auckland\, Auckland\, 
 2016\, New Zealand
END:VEVENT
END:VCALENDAR
