BEGIN:VCALENDAR
VERSION:2.0
PRODID:-//Squarespace Inc/Squarespace 6//v6//EN
BEGIN:VEVENT
UID:5ddda769a4458e1fc9d07f1a@squarespace.com
DTSTAMP:20191126T232757Z
DTSTART:20200815T150000Z
DTEND:20200815T170000Z
SUMMARY:August Course - Saturday Morning
GEO:-36.919895;174.866815
LOCATION:Anchorage House\, 16 Swan Crescent\, Pakuranga\, Auckland\, 2010\, 
 New Zealand
END:VEVENT
END:VCALENDAR
