BEGIN:VCALENDAR
VERSION:2.0
PRODID:-//Squarespace Inc/Squarespace 6//v6//EN
BEGIN:VEVENT
UID:5ddda69b238a18316c5ae1bf@squarespace.com
DTSTAMP:20191126T232825Z
DTSTART:20200516T150000Z
DTEND:20200516T170000Z
SUMMARY:May Course - Saturday Morning
GEO:-36.919895;174.866815
LOCATION:Anchorage House\, 16 Swan Crescent\, Pakuranga\, Auckland\, 2010\, 
 New Zealand
END:VEVENT
END:VCALENDAR
