BEGIN:VCALENDAR
VERSION:2.0
PRODID:-//Squarespace Inc/Squarespace 6//v6//EN
BEGIN:VEVENT
UID:5ddda707238a18316c5af1e0@squarespace.com
DTSTAMP:20191126T232654Z
DTSTART:20201010T170000Z
DTEND:20201010T190000Z
SUMMARY:October Course - Saturday Afternoon
GEO:-36.919895;174.866815
LOCATION:Anchorage House\, 16 Swan Crescent\, Pakuranga\, Auckland\, 2010\, 
 New Zealand
END:VEVENT
END:VCALENDAR
