BEGIN:VCALENDAR
VERSION:2.0
PRODID:-//Squarespace Inc/Squarespace 6//v6//EN
BEGIN:VEVENT
UID:5ddda53e377ff72cee46a60d@squarespace.com
DTSTAMP:20191126T232608Z
DTSTART:20200222T193000Z
DTEND:20200222T213000Z
SUMMARY:February Course - Saturday Afternoon
GEO:-36.919895;174.866815
LOCATION:Anchorage House\, 16 Swan Crescent\, Pakuranga\, Auckland 2010\, N
 ew Zealand
END:VEVENT
END:VCALENDAR
